BEGIN:VCALENDAR
VERSION:2.0
PRODID:-//Tukios.com/
BEGIN:VEVENT
UID:fcd91e91-e7ed-46d2-b85b-677650f295f6@www.hazelgreenfuneralhome.com
DTSTAMP:20260421T211158Z
DTSTART:20260424T180000Z
DTEND:20260424T190000Z
SUMMARY:Funeral Service
DESCRIPTION:
URL:https://www.hazelgreenfuneralhome.com/obituaries/numan-bates
LOCATION: 13921 Hwy 231-431 N  Hazel Green AL 35750
GEO:34.9323102;-86.5719383
END:VEVENT
END:VCALENDAR