BEGIN:VCALENDAR
VERSION:2.0
PRODID:-//Tukios.com/
BEGIN:VEVENT
UID:fd674e15-0268-4d0d-8aef-47c563505e62@www.hazelgreenfuneralhome.com
DTSTAMP:20260421T210916Z
DTSTART:20260423T230000Z
DTEND:20260424T010000Z
SUMMARY:Visitation
DESCRIPTION:
URL:https://www.hazelgreenfuneralhome.com/obituaries/numan-bates
LOCATION: 13921 Hwy 231-431 N  Hazel Green AL 35750
GEO:34.9323102;-86.5719383
END:VEVENT
END:VCALENDAR