BEGIN:VCALENDAR
VERSION:2.0
PRODID:-//Tukios.com/
BEGIN:VEVENT
UID:94c16d20-ac98-401d-8490-a1e83d0ac286@www.hazelgreenfuneralhome.com
DTSTAMP:20260422T045856Z
DTSTART:20260423
SUMMARY:Burial
DESCRIPTION:Burial will follow the service being held at the funeral 
	home.
URL:https://www.hazelgreenfuneralhome.com/obituaries/nadine-lawson
LOCATION:  Joe Quick Road  New Market AL 35761
GEO:34.9411487;-86.516128
END:VEVENT
END:VCALENDAR