BEGIN:VCALENDAR
VERSION:2.0
PRODID:-//Tukios.com/
BEGIN:VEVENT
UID:ef2ee9f9-742b-465b-98d5-29ef486d77c2@www.hazelgreenfuneralhome.com
DTSTAMP:20260422T050723Z
DTSTART:20260423T180000Z
DTEND:20260423T190000Z
SUMMARY:Funeral Service
DESCRIPTION:
URL:https://www.hazelgreenfuneralhome.com/obituaries/nadine-lawson
LOCATION: 13921 Hwy 231-431 N  Hazel Green AL 35750
GEO:34.9323102;-86.5719383
END:VEVENT
END:VCALENDAR