BEGIN:VCALENDAR
VERSION:2.0
PRODID:-//Tukios.com/
BEGIN:VEVENT
UID:615d822d-68d2-4b1c-85c2-1cb5234b93b0@www.hazelgreenfuneralhome.com
DTSTAMP:20260422T050115Z
DTSTART:20260423T163000Z
DTEND:20260423T180000Z
SUMMARY:Visitation
DESCRIPTION:
URL:https://www.hazelgreenfuneralhome.com/obituaries/nadine-lawson
LOCATION: 13921 Hwy 231-431 N  Hazel Green AL 35750
GEO:34.9323102;-86.5719383
END:VEVENT
END:VCALENDAR