BEGIN:VCALENDAR
VERSION:2.0
PRODID:-//Tukios.com/
BEGIN:VEVENT
UID:892b0122-da04-4327-8a84-4d34774f6fcd@www.hazelgreenfuneralhome.com
DTSTAMP:20260422T222911Z
DTSTART:20260423T170000Z
DTEND:20260423T180000Z
SUMMARY:Funeral Service
DESCRIPTION:
URL:https://www.hazelgreenfuneralhome.com/obituaries/mattie-vann
LOCATION:Hazel Green Funeral Home 13921 US-231  Hazel Green AL 35750
GEO:34.9220924;-86.5725237
END:VEVENT
END:VCALENDAR