BEGIN:VCALENDAR
VERSION:2.0
PRODID:-//Tukios.com/
BEGIN:VEVENT
UID:62dac3be-6aa5-4f47-9d71-863aefe3f93d@www.hazelgreenfuneralhome.com
DTSTAMP:20260422T223100Z
DTSTART:20260423T150000Z
DTEND:20260423T170000Z
SUMMARY:Visitation
DESCRIPTION:
URL:https://www.hazelgreenfuneralhome.com/obituaries/mattie-vann
LOCATION:Hazel Green Funeral Home 13921 Hwy 231-431 N  Hazel Green AL 
	35750
GEO:34.9323102;-86.5719383
END:VEVENT
END:VCALENDAR