BEGIN:VCALENDAR
VERSION:2.0
PRODID:-//Tukios.com/
BEGIN:VEVENT
UID:079aa6fa-8ec0-4dc0-b4c3-3958c7df8d30@www.hazelgreenfuneralhome.com
DTSTAMP:20260425T023723Z
DTSTART:20260508T190000Z
DTEND:20260508T200000Z
SUMMARY:Memorial Service
DESCRIPTION:
URL:https://www.hazelgreenfuneralhome.com/obituaries/janyce-wilson
LOCATION:Hazel Green Funeral Home 13921 Hwy 231-431 N  Hazel Green AL 
	35750
GEO:34.9323102;-86.5719383
END:VEVENT
END:VCALENDAR